BEGIN:VCALENDAR
VERSION:2.0
PRODID:http://kuratie-wickendorf.de
BEGIN:VEVENT
UID:b53fa540-36ba-11f1-a8bf-0242ac11002b-1777734000000-de
DTSTAMP:20260412T215815Z
DTSTART:20260502T150000Z
DTEND:20260502T160000Z
SUMMARY;LANGUAGE=de:Wort-Gottes-Feier
END:VEVENT
END:VCALENDAR
