BEGIN:VCALENDAR
VERSION:2.0
PRODID:http://kuratie-wickendorf.de
BEGIN:VEVENT
UID:aad998d0-36ba-11f1-a8bf-0242ac11002b-1777185000000-de
DTSTAMP:20260412T215758Z
DTSTART:20260426T063000Z
DTEND:20260426T073000Z
SUMMARY;LANGUAGE=de:Festgottesdienst zum Patronatsfest
END:VEVENT
END:VCALENDAR
